BEGIN:VCALENDAR
VERSION:2.0
PRODID:-//Viva Cristorey Films//Big Sis//EN
CALSCALE:GREGORIAN
METHOD:PUBLISH
BEGIN:VEVENT
UID:bigsis-fri-apr24-7pm@vivacristoreyfilms.com
DTSTART;TZID=America/Chicago:20260424T190000
DTEND;TZID=America/Chicago:20260424T200000
SUMMARY:Big Sis – Film Prize Jr Screening
LOCATION:Shreveport Convention Center\, 400 Caddo St\, Shreveport\, LA 71101
DESCRIPTION:Room 206 – Noel Foundation Theater\n\nBig Sis is premiering at Film Prize Junior Louisiana 2026.\n\nMore info: https://vivacristoreyfilms.com/bigsis
URL:https://vivacristoreyfilms.com/bigsis
END:VEVENT
END:VCALENDAR
